BEGIN:VCALENDAR
VERSION:2.0
PRODID:-//Autism Europe - ECPv6.15.18//NONSGML v1.0//EN
CALSCALE:GREGORIAN
METHOD:PUBLISH
X-ORIGINAL-URL:https://www.autismeurope.org
X-WR-CALDESC:Events for Autism Europe
REFRESH-INTERVAL;VALUE=DURATION:PT1H
X-Robots-Tag:noindex
X-PUBLISHED-TTL:PT1H
BEGIN:VTIMEZONE
TZID:Europe/Paris
BEGIN:DAYLIGHT
TZOFFSETFROM:+0100
TZOFFSETTO:+0200
TZNAME:CEST
DTSTART:20220327T010000
END:DAYLIGHT
BEGIN:STANDARD
TZOFFSETFROM:+0200
TZOFFSETTO:+0100
TZNAME:CET
DTSTART:20221030T010000
END:STANDARD
BEGIN:DAYLIGHT
TZOFFSETFROM:+0100
TZOFFSETTO:+0200
TZNAME:CEST
DTSTART:20230326T010000
END:DAYLIGHT
BEGIN:STANDARD
TZOFFSETFROM:+0200
TZOFFSETTO:+0100
TZNAME:CET
DTSTART:20231029T010000
END:STANDARD
BEGIN:DAYLIGHT
TZOFFSETFROM:+0100
TZOFFSETTO:+0200
TZNAME:CEST
DTSTART:20240331T010000
END:DAYLIGHT
BEGIN:STANDARD
TZOFFSETFROM:+0200
TZOFFSETTO:+0100
TZNAME:CET
DTSTART:20241027T010000
END:STANDARD
END:VTIMEZONE
BEGIN:VEVENT
DTSTART;TZID=Europe/Paris:20230330T090000
DTEND;TZID=Europe/Paris:20230330T110000
DTSTAMP:20260422T114317
CREATED:20230307T163849Z
LAST-MODIFIED:20230329T144340Z
UID:47436-1680166800-1680174000@www.autismeurope.org
SUMMARY:Conference at the European Parliament for World Autism Awareness Day 2023
DESCRIPTION:As every year\, Autism-Europe is celebrating World Autism Awareness Day (WAAD) on 2 April and throughout the month of April. 2023 also marks a special occasion\, as AE celebrates its 40th anniversary. This year’s WAAD campaign will be an opportunity to reflect on the advances made so far for the autism community and the work that remains to improve the lives of autistic people. \nIn this context\, Autism-Europe and MEP Rosa Estarás (EPP\, Spain) are organising the conference “Building an inclusive society for autistic people”. Participants will have the chance to hear first-hand experiences from autistic people and learn more on how to foster a more inclusive society for them\, as well as key policy-developments to address their challenges. \nThe conference will take place at the European Parliament\, allowing remote access via Webex.   \nPlace: Room ASP 3E-2\, European Parliament\, Brussels\nDate: Thursday 30 March 2023 \nTime: 9 – 11 AM  \nPlease see the programme of the event: \n09.00 – 09.20 – Welcome by MEP Rosa Estaràs  \n09.20 – 09.40 – Listening to the experiences of young autistic people about social inclusion\, access to education and the labour market \n\nTeacher: Mireia Castañeda Nicolau\nStudent: Jose Cansado Estarás\nStudent: Joan Jesús Bisbal Mora\n\n09.40 – 10.00 – From neurodiversity to neuroharmony: fostering a society that works for autistic people – Peter Vermeulen\, Sterkmakers in autisme / Autism in Context \n10.00 – 10.20 – A Scientific Look at Recruitment: Examining Unconscious Biases Facing Autistic Talents – Vincent Grimaldi de Puget \n10.20 – 10.30 – Developing an Autism strategy at national level to better address the needs of autistic people: the Spanish example – María Pindado\, Confederación Autismo Espana \n10.30 – 10.40 – Key building blocks for an inclusive society for autistic people – Zsuzsanna Szilvasy\, Vice President\, Autism-Europe \n10.45 – 10.55 – Q&A and exchange with the conference participants \n10.55 – Closing \nDOWNLOAD THE PROGRAMME HERE. \nImportant: the deadline for registration was 22 March at 23:59.
URL:https://www.autismeurope.org/event/conference-at-the-european-parliament-for-world-autism-awareness-day-2023/
LOCATION:European Parliament\, Rue Wiertz 60\, Bruxelles\, Bruxelles-Capitale\, Région de;Brussels Hoofdstedelijk Gewest\, 1047\, Belgium
ATTACH;FMTTYPE=image/png:https://www.autismeurope.org/wp-content/uploads/2023/03/cover-registration-form.png
ORGANIZER;CN="Autism-Europe":MAILTO:secretariat@autismeurope.org
END:VEVENT
END:VCALENDAR