BEGIN:VCALENDAR
VERSION:2.0
PRODID:-//Autism Europe - ECPv6.15.18//NONSGML v1.0//EN
CALSCALE:GREGORIAN
METHOD:PUBLISH
X-WR-CALNAME:Autism Europe
X-ORIGINAL-URL:https://www.autismeurope.org/fr
X-WR-CALDESC:Events for Autism Europe
REFRESH-INTERVAL;VALUE=DURATION:PT1H
X-Robots-Tag:noindex
X-PUBLISHED-TTL:PT1H
BEGIN:VTIMEZONE
TZID:Europe/Paris
BEGIN:DAYLIGHT
TZOFFSETFROM:+0100
TZOFFSETTO:+0200
TZNAME:CEST
DTSTART:20160327T010000
END:DAYLIGHT
BEGIN:STANDARD
TZOFFSETFROM:+0200
TZOFFSETTO:+0100
TZNAME:CET
DTSTART:20161030T010000
END:STANDARD
BEGIN:DAYLIGHT
TZOFFSETFROM:+0100
TZOFFSETTO:+0200
TZNAME:CEST
DTSTART:20170326T010000
END:DAYLIGHT
BEGIN:STANDARD
TZOFFSETFROM:+0200
TZOFFSETTO:+0100
TZNAME:CET
DTSTART:20171029T010000
END:STANDARD
BEGIN:DAYLIGHT
TZOFFSETFROM:+0100
TZOFFSETTO:+0200
TZNAME:CEST
DTSTART:20180325T010000
END:DAYLIGHT
BEGIN:STANDARD
TZOFFSETFROM:+0200
TZOFFSETTO:+0100
TZNAME:CET
DTSTART:20181028T010000
END:STANDARD
END:VTIMEZONE
BEGIN:VEVENT
DTSTART;VALUE=DATE:20170921
DTEND;VALUE=DATE:20171019
DTSTAMP:20260420T204712
CREATED:20170901T092808Z
LAST-MODIFIED:20170901T092808Z
UID:3384-1505952000-1508371199@www.autismeurope.org
SUMMARY:Exhibition of paintings 'TableAu’tisme'- Luxembourg
DESCRIPTION:The Autism-Europe’s member Fondation Autisme Luxembourg organises an exhibition of paintings titled TableAu’tisme to support its projects which include\, among others\, summer camps for children and adolescents.  This event counts with the support of COPAS\, which has generously provided its premises for the event. COPAS is an organisation that brings together nursing homes\, retirement homes\, as well as facilities and home support networks for people with disabilities. \nAmong the artists whose work will be exhibited\, from the nineteenth century to the present day\, are Moritz Ney\, Ferdinand d’Huart\, Aloyse Bové\, Lily Unden\, Arnold Stoffels\, Germaine Spiesse\, Sandrien\, Eugène Schergen\, Josee Ackermann-Bettendorff\, Roger Steffen and Jean-Pierre Calteux \, Jean Mulders\, Knauf\, Josephine Gloden\, Schönfeld\, Bailly\, Nina Lefèvre\, Frantz Seimetz\, Rausch\, Darek Dariusz Pala\, Marc Frising\, Roger Bertemes\, Susy Thix\, Britt Bernard\, Sonja Soyer\, Anna Recker and Kieffer. \nThe works to be discovered mainly represent still life\, landscapes and contemporary abstract paintings. Art lovers will be delighted. \nAgenda\nVernissage: Thursday\, September 21 from 5 pm\, followed by drink offered by COPAS \nSpeech at 5.30pm: Marc Fischbach\, President of COPAS and Claude Schmit\, President of the Fondation Autisme Luxembourg\, accompanied by Baroque music on the harpsichord played by Tanguy Neumann.
URL:https://www.autismeurope.org/fr/event/exhibition-of-paintings-tableautisme-luxembourg/
LOCATION:COPAS\, 2 rue de Turi\, Livange\, 3378\, Luxembourg
ATTACH;FMTTYPE=image/jpeg:https://www.autismeurope.org/wp-content/uploads/2017/09/Photo_oeuvre_de_Mortitz_Ney.jpg
ORGANIZER;CN="Fondation Autisme Luxembourg":MAILTO:autisme@fal.lu
END:VEVENT
BEGIN:VEVENT
DTSTART;TZID=Europe/Paris:20171010T090000
DTEND;TZID=Europe/Paris:20171011T170000
DTSTAMP:20260420T204712
CREATED:20170823T083633Z
LAST-MODIFIED:20170828T090134Z
UID:2201-1507626000-1507741200@www.autismeurope.org
SUMMARY:“Autism\, Asperger's syndrome and related situations seen within” with Josef Schovanec- Capellen\, Luxembourg
DESCRIPTION:Autism-Europe’s members the Autism Foundation Luxembourg and the APEPA\, together with lecturer Josef Schovanec\, Doctor of the Ecole des Hautes Etudes en Sciences Sociales (EHESS\, 2009)\, invite you to the event « Autism\, Asperger syndrome and related situations seen from within”. \nThe aim of this event is to understand the evolution of the representation of autism\, to understand from the peculiarities of an autistic person from the inside\, and to identify the modalities of the social inclusion of people with autism.\n\nThe event will take place on Tuesday 10 and Wednesday 11 October 2017\, from 9 am to 5 pm\, at the Fondation Autisme Luxembourg – 68\, route d’Arlon L-8310 Capellen. The same event will then travel to Namur\, Belgium\, on the 12 and 13 October at Rue du Fond de Malonne 127\, 5020 Malonne (Namur).\n\nPlease note that the event will take place in French only. 
URL:https://www.autismeurope.org/fr/event/autism-aspergers-syndrome-and-related-situations-seen-within-with-josef-schovanec/
LOCATION:Fondation Autisme Luxembourg\, Route d'Arlon\, Capellen\, Mamer\, 8310\, Luxembourg
ATTACH;FMTTYPE=image/jpeg:https://www.autismeurope.org/wp-content/uploads/2017/08/JOSEF-SCHOVANEC.jpg
END:VEVENT
END:VCALENDAR